Workbook

Sheet Додаток 2 Фін.звіт
B1: Додаток 2
B2: до Порядку складання, затвердження фінансового плану комунальними некомерційними підприємствами галузі охорони здоров'я міста Запоріжжя та контролю за його виконанням
A4: ЗВІТ ПРО ВИКОНАННЯ ФІНАНСОВОГО ПЛАНУ
A5: комунального некомерційного підприємства "Центр первинної медико-санітарної допомоги № 2"
A6: (назва підприємства)
A7: за 1 квартал 2024 рік
A8: (період) | F8: тис.грн.
A9: Показники | B9: Код рядка | C9: План | D9: Факт | E9: Відхилення | F9: % виконання плану
A11: 1 | B11: 2 | C11: 3 | D11: 4 | E11: 5 | F11: 6
A12: I. ФОРМУВАННЯ ФІНАНСОВИХ РЕЗУЛЬТАТІВ
A13: ДОХІД, всього | B13: 1100 | C13: =C14+C17+C21 -> 36663.332 | D13: =D14+D17+D21 -> 36278.706 | E13: =D13-C13 -> -384.626 | F13: =D13/C13*100 -> 98.950925
A14: Дохід (виручка) від реалізації продукції (товарів, робіт, послуг) | B14: 1110 | C14: =C15+C16 -> 24239.837 | D14: =D15+D16 -> 24239.837 | E14: =D14-C14 -> 0 | F14: =D14/C14*100 -> 100
A15: Доходи надавача послуг за програмою медичних гарантій від НСЗУ | B15: 1111 | C15: 24233.185 | D15: 24233.185 | E15: =D15-C15 -> 0 | F15: =D15/C15*100 -> 100
A16: Дохід від надання медичних та немедичних послуг за кошти фізичних і юридичних осіб та страхових виплат | B16: 1112 | C16: 6.652 | D16: 6.652 | E16: =D16-C16 -> 0 | F16: =D16/C16*100 -> 100
A17: Інший операційний дохід | B17: 1120 | C17: =C18+C19+C20 -> 11190.999 | D17: =D18+D19+D20 -> 10752.963 | E17: =D17-C17 -> -438.036 | F17: =D17/C17*100 -> 96.085819
A18: Цільовий інший операційний дохід (Таблиця 1) | B18: 1121 | C18: ='Таблиця 1 рядок 1121-МБ+БОА'!B29 -> 9496.55 | D18: ='Таблиця 1 рядок 1121-МБ+БОА'!C29 -> 9041.059 | E18: =D18-C18 -> -455.491 | F18: =D18/C18*100 -> 95.203616
A19: Дохід від оренди, від компенсаціій за комунальні платежі від орендаря | B19: 1122 | C19: 871.148 | D19: 906.718 | E19: =D19-C19 -> 35.57 | F19: =D19/C19*100 -> 104.08312
A20: Інше (Таблиця 2) | B20: 1123 | C20: ='Таблиця 2 рядок 1123 Гранд+к+%'!B13 -> 823.301 | D20: ='Таблиця 2 рядок 1123 Гранд+к+%'!C13 -> 805.186 | E20: =D20-C20 -> -18.115 | F20: =D20/C20*100 -> 97.799711
A21: Неопераційний дохід | B21: 1130 | C21: =C22+C23+C24 -> 1232.496 | D21: =D22+D23+D24 -> 1285.906 | E21: =D21-C21 -> 53.41 | F21: =D21/C21*100 -> 104.33348
A22: Неопераційний дохід, від амортизації по НА та ОЗ, що отримані як цільове фінансування | B22: 1131 | C22: 8.825 | D22: 8.825 | E22: =D22-C22 -> 0 | F22: =D22/C22*100 -> 100
A23: Неопераційний дохід від амортизації по НА та ОЗ, що отримані безоплатно | B23: 1132 | C23: 1216.455 | D23: 1277.081 | E23: =D23-C23 -> 60.626 | F23: =D23/C23*100 -> 104.98383
A24: Інший неопераційний дохід (Таблиця 3) | B24: 1133 | C24: ='Таблиця 3 рядок 1133-%, бр,виб'!B11 -> 7.216 | D24: ='Таблиця 3 рядок 1133-%, бр,виб'!C11 -> 0 | E24: =D24-C24 -> -7.216 | F24: =D24/C24*100 -> 0
A25: ВИТРАТИ, всього, у тому числі: | B25: 1200 | C25: =C26+C43+C44 -> 34718.24 | D25: =D26+D43+D44 -> 33869.903 | E25: =D25-C25 -> -848.337 | F25: =D25/C25*100 -> 97.556509
A26: Операційні витрати без амортизації всього, в тому числі: (Таблиця 4) | B26: 1210 | C26: =C27+C28+C29+C30+C42 -> 33220.126 | D26: =D27+D28+D29+D30+D42 -> 32357.132 | E26: =D26-C26 -> -862.994 | F26: =D26/C26*100 -> 97.402195
A27: Оплата праці | B27: 1211 | C27: ='Таблиця 4 рядок 1210 Опер вит'!K10 -> 17344.056 | D27: ='Таблиця 4 рядок 1210 Опер вит'!L10 -> 17123.176 | E27: =D27-C27 -> -220.88 | F27: =D27/C27*100 -> 98.72648
A28: Нарахування на оплату праці | B28: 1212 | C28: ='Таблиця 4 рядок 1210 Опер вит'!K11 -> 3763.693 | D28: ='Таблиця 4 рядок 1210 Опер вит'!L11 -> 3727.074 | E28: =D28-C28 -> -36.619 | F28: =D28/C28*100 -> 99.027046
A29: Соціальне забезпечення (у тому числі пільгові пенсії) | B29: 1213 | C29: ='Таблиця 4 рядок 1210 Опер вит'!K12 -> 10.65 | D29: ='Таблиця 4 рядок 1210 Опер вит'!L12 -> 10.65 | E29: =D29-C29 -> 0 | F29: =D29/C29*100 -> 100
A30: Матеріальні витрати | B30: 1214 | C30: =C31+C32+C33+C34+C35+C36+C37+C38+C39+C40+C41 -> 7356.666 | D30: =D31+D32+D33+D34+D35+D36+D37+D38+D39+D40+D41 -> 6791.004 | E30: =D30-C30 -> -565.662 | F30: =D30/C30*100 -> 92.310892
A31: Медикаменти та перев'язувальні матеріали | B31: 1214.1 | C31: ='Таблиця 4 рядок 1210 Опер вит'!K14 -> 3278.547 | D31: ='Таблиця 4 рядок 1210 Опер вит'!L14 -> 2874.468 | E31: =D31-C31 -> -404.079 | F31: =D31/C31*100 -> 87.675058
A32: Засоби індивідуального захисту | B32: 1214.2 | C32: ='Таблиця 4 рядок 1210 Опер вит'!K15 -> 32 | D32: ='Таблиця 4 рядок 1210 Опер вит'!L15 -> 28.091 | E32: =D32-C32 -> -3.909 | F32: =D32/C32*100 -> 87.784375
A33: Продукти харчування | B33: 1214.3 | C33: ='Таблиця 4 рядок 1210 Опер вит'!K16 -> 74.204 | D33: ='Таблиця 4 рядок 1210 Опер вит'!L16 -> 71.233 | E33: =D33-C33 -> -2.971 | F33: =D33/C33*100 -> 95.996173
A34: Предмети, матеріали та інвентар | B34: 1214.4 | C34: ='Таблиця 4 рядок 1210 Опер вит'!K17 -> 188 | D34: ='Таблиця 4 рядок 1210 Опер вит'!L17 -> 138.745 | E34: =D34-C34 -> -49.255 | F34: =D34/C34*100 -> 73.800532
A35: Будівельні матеріали | B35: 1214.5 | C35: ='Таблиця 4 рядок 1210 Опер вит'!K18 -> 159 | D35: ='Таблиця 4 рядок 1210 Опер вит'!L18 -> 139.622 | E35: =D35-C35 -> -19.378 | F35: =D35/C35*100 -> 87.812579
A36: Паливно-мастильні матеріали | B36: 1214.6 | C36: ='Таблиця 4 рядок 1210 Опер вит'!K19 -> 466.174 | D36: ='Таблиця 4 рядок 1210 Опер вит'!L19 -> 416.33 | E36: =D36-C36 -> -49.844 | F36: =D36/C36*100 -> 89.307855
A37: Оплата комунальних послуг та інших енергоносіїв | B37: 1214.7 | C37: ='Таблиця 4 рядок 1210 Опер вит'!K20 -> 2992.741 | D37: ='Таблиця 4 рядок 1210 Опер вит'!L20 -> 2992.737 | E37: =D37-C37 -> -0.004 | F37: =D37/C37*100 -> 99.999866
A38: М’який інвентар | B38: 1214.8 | C38: ='Таблиця 4 рядок 1210 Опер вит'!K21 -> 0 | D38: ='Таблиця 4 рядок 1210 Опер вит'!L21 -> 0 | E38: =D38-C38 -> 0 | F38: =D38/C38*100 -> #DIV/0!
A39: Господарські матеріали | B39: 1214.9 | C39: ='Таблиця 4 рядок 1210 Опер вит'!K22 -> 56 | D39: ='Таблиця 4 рядок 1210 Опер вит'!L22 -> 23.876 | E39: =D39-C39 -> -32.124 | F39: =D39/C39*100 -> 42.635714
A40: Ремонти (приміщень, обладнання) | B40: 1214.10 | C40: ='Таблиця 4 рядок 1210 Опер вит'!K23 -> 110 | D40: ='Таблиця 4 рядок 1210 Опер вит'!L23 -> 105.902 | E40: =D40-C40 -> -4.098 | F40: =D40/C40*100 -> 96.274545
A41: Інші матеріальні витрати | B41: 1214.11 | C41: ='Таблиця 4 рядок 1210 Опер вит'!K24 -> 0 | D41: ='Таблиця 4 рядок 1210 Опер вит'!L24 -> 0 | E41: =D41-C41 -> 0 | F41: =D41/C41*100 -> #DIV/0!
A42: Інші операційні витрати (Таблиця 5) | B42: 1215 | C42: ='Таблиця 5 рядок 1215 Інші ОВ'!B22 -> 4745.061 | D42: ='Таблиця 5 рядок 1215 Інші ОВ'!C22 -> 4705.228 | E42: =D42-C42 -> -39.833 | F42: =D42/C42*100 -> 99.160538
...

Sheet Таблиця 1 рядок 1121-МБ+БОА
E1: Таблиця 1
A2: КНП "Центр первинної медико-санітарної допомоги №2"
A3: (назва підприємства)
A4: Інший операційний дохід
A5: Цільовий інший операційний дохід (рядок 1121 звіту)
A7: Найменування | B7: План | C7: Факт | D7: Відхилення | E7: % виконання плану | H7: перевірка факту з таб 4
A9: Бюджет Запорізької міської територіальної громади: | B9: =SUM(B10:B19) -> 6533.66 | C9: =SUM(C10:C19) -> 6499.421 | D9: =C9-B9 -> -34.239 | E9: =C9/B9*100 -> 99.47596 | H9: =C9-'Таблиця 4 рядок 1210 Опер вит'!F9 -> 0
A10: Соціальне забезпечення (у тому числі пільгові пенсії) | B10: 10.65 | C10: 10.65 | D10: =C10-B10 -> 0 | E10: =C10/B10*100 -> 100 | H10: =C10-'Таблиця 4 рядок 1210 Опер вит'!F12 -> 0
A11: Медикаменти та перев'язувальні матеріали | B11: 123.547 | C11: 100.023 | D11: =C11-B11 -> -23.524 | E11: =C11/B11*100 -> 80.959473 | H11: =C11-'Таблиця 4 рядок 1210 Опер вит'!F14 -> 0
A12: Засоби індивідуального захисту | B12: 14 | C12: 14.622 | D12: =C12-B12 -> 0.622 | E12: =C12/B12*100 -> 104.44286 | H12: =C12-'Таблиця 4 рядок 1210 Опер вит'!F15 -> 0
A13: Продукти харчування | B13: 70.704 | C13: 67.805 | D13: =C13-B13 -> -2.899 | E13: =C13/B13*100 -> 95.899808 | H13: =C13-'Таблиця 4 рядок 1210 Опер вит'!F16 -> 0
A14: Предмети, матеріали та інвентар | B14: 0 | D14: =C14-B14 -> 0 | E14: =C14/B14*100 -> #DIV/0! | H14: =C14-'Таблиця 4 рядок 1210 Опер вит'!F17 -> 0
A15: Паливно-мастильні матеріали | B15: 130 | C15: 121.569 | D15: =C15-B15 -> -8.431 | E15: =C15/B15*100 -> 93.514615 | H15: =C15-'Таблиця 4 рядок 1210 Опер вит'!F19 -> 0
A16: Оплата комунальних послуг та енергоносіїв | B16: 2379.017 | C16: 2379.015 | D16: =C16-B16 -> -0.002 | E16: =C16/B16*100 -> 99.999916 | H16: =C16-'Таблиця 4 рядок 1210 Опер вит'!F20 -> 0
A17: Ремонт (приміщень,обладнання) | D17: =C17-B17 -> 0 | E17: =C17/B17*100 -> #DIV/0!
A18: Інші операційні витрати (відшкодування вартості пільгових ліків, інсулінів) | B18: 3805.742 | C18: 3805.737 | D18: =C18-B18 -> -0.005 | E18: =C18/B18*100 -> 99.999869 | H18: =C18-'Таблиця 4 рядок 1210 Опер вит'!E25 -> 0
A19: Інші витрати | D19: =C19-B19 -> 0 | E19: =C19/B19*100 -> #DIV/0!
A20: Безоплатне отримання активів: | B20: =SUM(B21:B28) -> 2962.89 | C20: =SUM(C21:C28) -> 2541.638 | D20: =C20-B20 -> -421.252 | E20: =C20/B20*100 -> 85.782395 | H20: =C20-'Таблиця 4 рядок 1210 Опер вит'!H9 -> 0
A21: Медикаменти та перев'язувальні матеріали | B21: 2825 | C21: 2458.215 | D21: =C21-B21 -> -366.785 | E21: =C21/B21*100 -> 87.01646 | H21: =C21-'Таблиця 4 рядок 1210 Опер вит'!H14 -> 0
A22: Засоби індивідуального захисту | B22: 17 | C22: 13.08 | D22: =C22-B22 -> -3.92 | E22: =C22/B22*100 -> 76.941176 | H22: =C22-'Таблиця 4 рядок 1210 Опер вит'!H15 -> 0
A23: Продукти харчування | B23: 3.5 | C23: 3.428 | H23: =C23-'Таблиця 4 рядок 1210 Опер вит'!H16 -> 0
A24: Предмети, матеріали та інвентар | B24: 60 | C24: 39.815 | D24: =C24-B24 -> -20.185 | E24: =C24/B24*100 -> 66.358333 | H24: =C24-'Таблиця 4 рядок 1210 Опер вит'!H17 -> 0
A25: Будівельні матеріали | B25: 30 | C25: 20.16 | D25: =C25-B25 -> -9.84 | E25: =C25/B25*100 -> 67.2 | H25: =C25-'Таблиця 4 рядок 1210 Опер вит'!H18 -> 0
A26: Паливно-мастильні матеріали | B26: 0.174 | C26: 0.174 | D26: =C26-B26 -> 0 | E26: =C26/B26*100 -> 100 | H26: =C26-'Таблиця 4 рядок 1210 Опер вит'!H19 -> 0
A27: Господарськи товари | B27: 20 | C27: 6.766 | D27: =C27-B27 -> -13.234 | E27: =C27/B27*100 -> 33.83 | H27: =C27-'Таблиця 4 рядок 1210 Опер вит'!H22 -> 0
A28: Інші витрати | B28: 7.216 | C28: 0 | D28: =C28-B28 -> -7.216 | E28: =C28/B28*100 -> 0 | H28: =C28-'Таблиця 4 рядок 1210 Опер вит'!H21 -> 0
A29: Всього | B29: =B9+B20 -> 9496.55 | C29: =C9+C20 -> 9041.059 | D29: =C29-B29 -> -455.491 | E29: =C29/B29*100 -> 95.203616
A32: Головний бухгалтер | D32: Ольга САРАНА
B33: (підпис) | C33: (П.І.Б.)

Sheet Таблиця 2 рядок 1123 Гранд+к+%
E1: Таблиця 2
A2: КНП "Центр первинної медико-санітарної допомоги №2"
A3: (назва підприємства)
A4: Інший операційний дохід
A5: Інше (рядок 1123 звіту)
A7: Найменування | B7: План | C7: Факт | D7: Відхилення | E7: % виконання плану
A9: Дохід від нарахування відсотків банком на залишок коштів НСЗУ по рахунку на кінець звітного періоду | B9: 232.907 | C9: 214.794 | D9: =C9-B9 -> -18.113 | E9: =C9/B9*100 -> 92.223076
A10: Благодійний грант від Представництва "ПРОДЖЕКТ ХОУП-ЗЕ ПІПЛ-ТУ ПІПЛ ХЕЛС ФАУНДЕЙШН ІНК в Україні для "Посилення кадрового потенціалу" (збільшення кількості медичних пацієнтів) | B10: 209.014 | C10: 209.013 | D10: =C10-B10 -> -0.001 | E10: =C10/B10*100 -> 99.999522
A11: Благодійна допомога від юридичних осіб | B11: 2.1 | C11: 2.1 | D11: =C11-B11 -> 0 | E11: =C11/B11*100 -> 100
A12: Благодійний грант від Дитячого фонду ООН (ЮНІСЕФ) "Посилення реагування на надзвичайні ситуації шляхом розбудови потенціалу національних органів влади, місцевих громад, організацій громадянського суспільства та медичних працівників", який імплементує Український католицький університет | B12: 379.28 | C12: 379.279 | D12: =C12-B12 -> -0.001 | E12: =C12/B12*100 -> 99.999736
A13: Всього | B13: =SUM(B9:B12) -> 823.301 | C13: =SUM(C9:C12) -> 805.186 | D13: =C13-B13 -> -18.115 | E13: =C13/B13*100 -> 97.799711
A16: Головний бухгалтер | D16: Ольга САРАНА
B17: (підпис) | C17: (П.І.Б.)

Sheet Таблиця 3 рядок 1133-%, бр,виб
E1: Таблиця 3
A2: КНП "Центр первинної медико-санітарної допомоги №2"
A3: (назва підприємства)
A4: Інший неопераційний дохід
A5: (рядок 1133 звіту)
A7: Найменування | B7: План | C7: Факт | D7: Відхилення | E7: % виконання плану
A9: Дохід від вибуття ОЗ і НА | B9: 7.216 | C9: 0 | D9: =C9-B9 -> -7.216 | E9: =C9/B9*100 -> 0
A10: Дохід за рахунок зданого металобрухту від списаних основних засобів та необоротних активів | D10: =C10-B10 -> 0 | E10: =C10/B10*100 -> #DIV/0!
A11: Всього | B11: =SUM(B9:B10) -> 7.216 | C11: =SUM(C9:C10) -> 0 | D11: =C11-B11 -> -7.216 | E11: =C11/B11*100 -> 0
A15: Головний бухгалтер | D15: Ольга САРАНА
B16: (підпис) | C16: (П.І.Б.)

Sheet Таблиця 4 рядок 1210 Опер вит
K1: Таблиця 4
A2: КНП "Центр первиинної медико-санітарної допомги №2"
A3: (назва підприємства)
A4: Операційні витрати без амортизації
A5: (рядок 1210 звіту)
C7: коштів НСЗУ | E7: коштів бюджетів всіх рівнів | G7: безоплатного отримання активів | I7: інших надходжень | K7: Разом за звітний період
B8: Код рядка | C8: план | D8: факт | E8: план | F8: факт | G8: план | H8: факт | I8: план | J8: факт | K8: план | L8: факт
A9: Операційні витрати без амортизації всього, в тому числі: | B9: 1210 | C9: =C10+C11+C12+C13+C25 -> 22475.803 | D9: =D10+D11+D12+D13+D25 -> 22195.441 | E9: =E10+E11+E12+E13+E25 -> 6533.655 | F9: =F10+F11+F12+F13+F25 -> 6499.421 | G9: =G10+G11+G12+G13+G25 -> 2962.89 | H9: =H10+H11+H12+H13+H25 -> 2541.638 | I9: =I10+I11+I12+I13+I25 -> 1247.773 | J9: =J10+J11+J12+J13+J25 -> 1120.631 | K9: =C9+E9+G9+I9 -> 33220.121 | L9: =D9+F9+H9+J9 -> 32357.131
A10: Оплата праці | B10: 1211 | C10: 17100 | D10: 16960.033 | E10: 0 | F10: 0 | G10: 0 | H10: 0 | I10: 244.056 | J10: 163.143 | K10: =C10+E10+G10+I10 -> 17344.056 | L10: =D10+F10+H10+J10 -> 17123.176
A11: Нарахування на оплату праці | B11: 1212 | C11: 3710 | D11: 3692.788 | E11: 0 | F11: 0 | G11: 0 | H11: 0 | I11: 53.693 | J11: 34.286 | K11: =C11+E11+G11+I11 -> 3763.693 | L11: =D11+F11+H11+J11 -> 3727.074
A12: Соціальне забезпечення (у тому числі пільгові пенсії) | B12: 1213 | C12: 0 | D12: 0 | E12: 10.65 | F12: 10.65 | G12: 0 | H12: 0 | I12: 0 | J12: 0 | K12: =C12+E12+G12+I12 -> 10.65 | L12: =D12+F12+H12+J12 -> 10.65
A13: Матеріальні витрати | B13: 1214 | C13: =SUM(C14:C24) -> 997 | D13: =SUM(D14:D24) -> 906.365 | E13: =SUM(E14:E24) -> 2717.268 | F13: =SUM(F14:F24) -> 2683.034 | G13: =SUM(G14:G24) -> 2955.674 | H13: =SUM(H14:H24) -> 2541.638 | I13: =SUM(I14:I24) -> 686.724 | J13: =SUM(J14:J24) -> 659.967 | K13: =C13+E13+G13+I13 -> 7356.666 | L13: =D13+F13+H13+J13 -> 6791.004
A14: Медикаменти та перев'язувальні матеріали | B14: 1214.1 | C14: 330 | D14: 316.23 | E14: 123.547 | F14: 100.023 | G14: 2825 | H14: 2458.215 | I14: 0 | J14: 0 | K14: =C14+E14+G14+I14 -> 3278.547 | L14: =D14+F14+H14+J14 -> 2874.468
A15: Засоби індивідуального захисту | B15: 1214.2 | C15: 1 | D15: 0.389 | E15: 14 | F15: 14.622 | G15: 17 | H15: 13.08 | I15: 0 | J15: 0 | K15: =C15+E15+G15+I15 -> 32 | L15: =D15+F15+H15+J15 -> 28.091
A16: Продукти харчування | B16: 1214.3 | C16: 0 | D16: 0 | E16: 70.704 | F16: 67.805 | G16: 3.5 | H16: 3.428 | I16: 0 | J16: 0 | K16: =C16+E16+G16+I16 -> 74.204 | L16: =D16+F16+H16+J16 -> 71.233
A17: Предмети, матеріали та інвентар | B17: 1214.4 | C17: 104 | D17: 81.395 | E17: 0 | F17: 0 | G17: 60 | H17: 39.815 | I17: 24 | J17: 17.535 | K17: =C17+E17+G17+I17 -> 188 | L17: =D17+F17+H17+J17 -> 138.745
A18: Будівельні матеріали | B18: 1214.5 | C18: 109 | D18: 107.499 | E18: 0 | F18: 0 | G18: 30 | H18: 20.16 | I18: 20 | J18: 11.963 | K18: =C18+E18+G18+I18 -> 159 | L18: =D18+F18+H18+J18 -> 139.622
A19: Паливно-мастильні матеріали | B19: 1214.6 | C19: 332 | D19: 291.284 | E19: 130 | F19: 121.569 | G19: 0.174 | H19: 0.174 | I19: 4 | J19: 3.303 | K19: =C19+E19+G19+I19 -> 466.174 | L19: =D19+F19+H19+J19 -> 416.33
A20: Оплата комунальних послуг та інших енергоносіїв | B20: 1214.7 | C20: 0 | D20: 0 | E20: 2379.017 | F20: 2379.015 | G20: 0 | H20: 0 | I20: 613.724 | J20: 613.722 | K20: =C20+E20+G20+I20 -> 2992.741 | L20: =D20+F20+H20+J20 -> 2992.737
A21: М’який інвентар | B21: 1214.8 | C21: 0 | D21: 0 | E21: 0 | F21: 0 | G21: 0 | H21: 0 | I21: 0 | J21: 0 | K21: =C21+E21+G21+I21 -> 0 | L21: =D21+F21+H21+J21 -> 0
A22: Господарські матеріали | B22: 1214.9 | C22: 21 | D22: 11.866 | E22: 0 | F22: 0 | G22: 20 | H22: 6.766 | I22: 15 | J22: 5.244 | K22: =C22+E22+G22+I22 -> 56 | L22: =D22+F22+H22+J22 -> 23.876
A23: Ремонти (приміщень, обладнання) | B23: 1214.10 | C23: 100 | D23: 97.702 | E23: 0 | F23: 0 | G23: 0 | H23: 0 | I23: 10 | J23: 8.2 | K23: =C23+E23+G23+I23 -> 110 | L23: =D23+F23+H23+J23 -> 105.902
A24: Інші матеріальні витрати | B24: 1214.11 | C24: 0 | E24: 0 | F24: 0 | G24: 0 | H24: 0 | I24: 0 | J24: 0 | K24: =C24+E24+G24+I24 -> 0 | L24: =D24+F24+H24+J24 -> 0
A25: Інші операційні витрати | B25: 1215 | C25: 668.803 | D25: 636.255 | E25: 3805.737 | F25: 3805.737 | G25: 7.216 | H25: 0 | I25: 263.3 | J25: 263.235 | K25: =C25+E25+G25+I25 -> 4745.056 | L25: =D25+F25+H25+J25 -> 4705.227
A28: Головний бухгалтер | I28: Ольга САРАНА
H29: (П.І.Б.)

Sheet Таблиця 5 рядок 1215 Інші ОВ
E1: Таблиця 5
A2: КНП "Центр первинної медико-санітарної допомоги №2"
A3: (назва підприємства)
A4: Інші операційні витрати
A5: (рядок 1215 звіту)
A7: Найменування | B7: План | C7: Факт | D7: Відхилення | E7: % виконання плану
A9: Видатки на відрядження | B9: 0 | C9: 0 | D9: =C9-B9 -> 0 | E9: =C9/B9*100 -> #DIV/0!
A10: Підготовка (перепідготовка) кадрів та підвищення кваліфікації | B10: 2 | C10: 2 | D10: =C10-B10 -> 0 | E10: =C10/B10*100 -> 100
A11: Послуги (крім комунальних) | B11: 572.1 | C11: 541.437 | D11: =C11-B11 -> -30.663 | E11: =C11/B11*100 -> 94.640273
A12: Зовнішні послуги з медичної допомоги | B12: 0 | C12: 0 | D12: =C12-B12 -> 0 | E12: =C12/B12*100 -> #DIV/0!
A13: ТО ліфти, ПК, оргтехніка, телефони | B13: 7.953 | C13: 7.953 | D13: =C13-B13 -> 0 | E13: =C13/B13*100 -> 100
A14: Зв'язок, інтернет | B14: 53.54 | C14: 51.596 | D14: =C14-B14 -> -1.944 | E14: =C14/B14*100 -> 96.36907
A15: Охорона | B15: 12 | C15: 12 | D15: =C15-B15 -> 0 | E15: =C15/B15*100 -> 100
A16: Пожежна охорона | B16: 6.9 | C16: 6.9 | D16: =C16-B16 -> 0 | E16: =C16/B16*100 -> 100
A17: Страхування | B17: 28.92 | C17: 28.92 | D17: =C17-B17 -> 0 | E17: =C17/B17*100 -> 100
A18: Податки | B18: 189.56 | C18: 189.559 | D18: =C18-B18 -> -0.001 | E18: =C18/B18*100 -> 99.999472
A19: Банківське обслуговування | B19: 2.5 | C19: 2.496 | D19: =C19-B19 -> -0.004 | E19: =C19/B19*100 -> 99.84
A20: Відшкодування вартості пільгових ліків, інсулінів | B20: 3805.742 | C20: 3805.737 | D20: =C20-B20 -> -0.005 | E20: =C20/B20*100 -> 99.999869
A21: Інші витрати | B21: 63.846 | C21: 56.63 | D21: =C21-B21 -> -7.216 | E21: =C21/B21*100 -> 88.697804
A22: Всього | B22: =SUM(B9:B21) -> 4745.061 | C22: =SUM(C9:C21) -> 4705.228 | D22: =C22-B22 -> -39.833 | E22: =C22/B22*100 -> 99.160538 | G22: =B22-'Додаток 2 Фін.звіт'!C42 -> 0 | H22: =C22-'Додаток 2 Фін.звіт'!D42 -> 0 | I22: перевірка
A25: Головний бухгалтер | D25: Ольга САРАНА
B26: (підпис) | C26: (П.І.Б.)

Sheet Таблиця 6 рядок 3060
E1: Таблиця 6
A2: КНП "Центр первинної медико-санітарної допомоги №2"
A3: (назва підприємства)
A4: Інші податки, збори та платежі до бюджету
A5: (рядок 3060 звіту)
A7: Найменування | B7: План | C7: Факт | D7: Відхилення | E7: % виконання плану
D9: =C9-B9 -> 0 | E9: =C9/B9*100 -> #DIV/0!
D10: =C10-B10 -> 0 | E10: =C10/B10*100 -> #DIV/0!
D11: =C11-B11 -> 0 | E11: =C11/B11*100 -> #DIV/0!
D12: =C12-B12 -> 0 | E12: =C12/B12*100 -> #DIV/0!
D13: =C13-B13 -> 0 | E13: =C13/B13*100 -> #DIV/0!
D14: =C14-B14 -> 0 | E14: =C14/B14*100 -> #DIV/0!
D15: =C15-B15 -> 0 | E15: =C15/B15*100 -> #DIV/0!
D16: =C16-B16 -> 0 | E16: =C16/B16*100 -> #DIV/0!
D17: =C17-B17 -> 0 | E17: =C17/B17*100 -> #DIV/0!
D18: =C18-B18 -> 0 | E18: =C18/B18*100 -> #DIV/0!
D19: =C19-B19 -> 0 | E19: =C19/B19*100 -> #DIV/0!
D20: =C20-B20 -> 0 | E20: =C20/B20*100 -> #DIV/0!
A21: Всього | B21: =SUM(B9:B20) -> 0 | C21: =SUM(C9:C20) -> 0 | D21: =C21-B21 -> 0 | E21: =C21/B21*100 -> #DIV/0!
A24: Головний бухгалтер | D24: Ольга САРАНА
B25: (підпис) | C25: (П.І.Б.)

Sheet Таблиця 7 рядок 5013 МБ -ПВ
E1: Таблиця 7
A2: КНП "Центр первинної медико-санітарної допомоги №2"
A3: (назва підприємства)
A4: Інші поточні видатки цільового фінансування
A5: (рядок 5013 звіту)
A7: Найменування | B7: План | C7: Факт | D7: Відхилення | E7: % виконання плану
A9: Соціальне забезпечення (у тому числі пільгові пенсії) | B9: 10.65 | C9: 10.65 | D9: =C9-B9 -> 0 | E9: =C9/B9*100 -> 100
A10: Медикаменти та перев'язувальні матеріали | B10: 167.468 | C10: 167.468 | D10: =C10-B10 -> 0 | E10: =C10/B10*100 -> 100
A11: Продукти харчування | B11: 0 | C11: 0 | D11: =C11-B11 -> 0 | E11: =C11/B11*100 -> #DIV/0!
A12: Паливно-мастильні матеріали | B12: 278.652 | C12: 278.652 | D12: =C12-B12 -> 0 | E12: =C12/B12*100 -> 100
A13: Ремонт (приміщень,обладнання) | D13: =C13-B13 -> 0 | E13: =C13/B13*100 -> #DIV/0!
A14: Інші операційні витрати (відшкодування вартості пільгових ліків, інсулінів) | B14: 3805.742 | C14: 3805.737 | D14: =C14-B14 -> -0.005 | E14: =C14/B14*100 -> 99.999869
A15: Всього | B15: =SUM(B9:B14) -> 4262.512 | C15: =SUM(C9:C14) -> 4262.507 | D15: =C15-B15 -> -0.005 | E15: =C15/B15*100 -> 99.999883
A18: Головний бухгалтер | D18: Ольга САРАНА
B19: (підпис) | C19: (П.І.Б.)

Sheet Таблиця 8 рядок 6000-КАПИ
K1: Таблиця 8
B2: КНП "Центр первинної медико-санітарної допомоги №2"
A3: (назва підприємства)
A4: Капітальні інвестиції
A5: (рядок 6000 звіту)
B7: Код рядка | C7: коштів НСЗУ | E7: коштів бюджетів всіх рівнів | G7: безоплатного отримання активів | I7: інших надходжень | K7: Разом за звітний період
C8: план | D8: факт | E8: план | F8: факт | G8: план | H8: факт | I8: план | J8: факт | K8: план | L8: факт
A9: капітальне будівництво | B9: 6010
A10: придбання (виготовлення) основних засобів | B10: 6020 | G10: 50 | H10: 50 | K10: =C10+E10+G10+I10 -> 50 | L10: =D10+F10+H10+J10 -> 50
A11: придбання (виготовлення) інших необоротних матеріальних активів | B11: 6030 | C11: 9.2 | D11: 9.2 | G11: 103.935 | H11: 103.935 | I11: 36.577 | J11: 36.577 | K11: =C11+E11+G11+I11 -> 149.712 | L11: =D11+F11+H11+J11 -> 149.712
A12: придбання (створення) нематеріальних активів | B12: 6040
A13: модернізація, модифікація (добудова, дообладнання, реконструкція) основних засобів | B13: 6050
A14: капітальний ремонт | B14: 6060
A15: Всього | C15: =SUM(C9:C14) -> 9.2 | D15: =SUM(D9:D14) -> 9.2 | E15: =SUM(E9:E14) -> 0 | F15: =SUM(F9:F14) -> 0 | G15: =SUM(G9:G14) -> 153.935 | H15: =SUM(H9:H14) -> 153.935 | I15: =SUM(I9:I14) -> 36.577 | J15: =SUM(J9:J14) -> 36.577 | ... L15: =SUM(L9:L14) -> 199.712
A17: Головний бухгалтер | H17: Ольга САРАНА
E18: (підпис) | G18: (П.І.Б.)

Sheet Таблиця 9 рядок 6020 Осн зас
E1: Таблиця 9
A3: КНП "Центр первинної медико-санітарної допомоги №2"
A4: (назва підприємства)
A5: Придбання основних засобів
A6: (рядок 6020 звіту)
A8: Найменування основного засобу | B8: Кількість, од. | C8: Ціна за одиницю, тис.грн. | D8: Вартість, тис.грн. | E8: Джрело коштів для придбання
A9: Концентратор кисню для домашнього використання | B9: 2 | C9: 25 | D9: 50 | E9: Безоплатне отримання
A11: Всього | B11: =SUM(B9:B10) -> 2 | D11: =SUM(D9:D10) -> 50
A16: Головний бухгалтер | D16: Ольга САРАНА
B17: (підпис) | C17: (П.І.Б.)

Sheet Таблиця 10 рядки 6050,6060
D1: Таблиця 10
A2: КНП "Центр первинної медико-санітарної допомоги №2"
A3: (назва підприємства)
A4: Перелік реконструкцій та капітальних ремонтів
A5: (рядки 6050,6060 звіту)
A7: Найменування об'єкту | B7: Вартість, тис.грн. | C7: Джерело коштів | D7: Терміни проведення робіт (квартали)
A20: Всього | B20: =SUM(B8:B19) -> 0
A23: Головний бухгалтер | C23: Ольга САРАНА
B24: (підпис) | C24: (П.І.Б.)

Sheet Довідка про зп мед персоналу
A1: Середньомісячна заробітна плата медичних працівників за 1 квартал 2024 року
A2: КНП "Центр перинної медико-санітарої допомоги №2"
A3: (назва підприємства)
A4: Період (місяці кварталу) | B4: Штатна чисельність | E4: Кількість працівників в еквіваленті повної зайнятості | H4: Фонд оплати праці, грн. | K4: Середньомісячна заробітна плата 1 працівника в еквіваленті повної зайнятості, грн.
B5: Медичні працівники | C5: в т.ч.: | E5: Медичні працівники | F5: в т.ч.: | H5: Медичних працівників | I5: в т.ч.: | K5: Медичні працівники | L5: фахівці з базовою та неповною вищою медичною освітою | M5: лікарі
C6: фахівці з базовою та неповною вищою медичною освітою | D6: лікарі | F6: фахівці з базовою та неповною вищою медичною освітою | G6: лікарі | I6: фахівці з базовою та неповною вищою медичною освітою | J6: лікарі
A7: січень | B7: =C7+D7 -> 288.75 | C7: 159 | D7: 129.75 | E7: =F7+G7 -> 206 | F7: 115 | G7: 91 | H7: =I7+J7 -> 3992157.9 | I7: 1686504.9 | J7: 2305653 | K7: =H7/E7 -> 19379.408 | L7: =I7/F7 -> 14665.26 | M7: =J7/G7 -> 25336.846
A8: лютий | B8: =C8+D8 -> 288.75 | C8: 159 | D8: 129.75 | E8: =F8+G8 -> 216 | F8: 119 | G8: 97 | H8: =I8+J8 -> 4548915.5 | I8: 1901547.6 | J8: 2647367.9 | K8: =H8/E8 -> 21059.794 | L8: =I8/F8 -> 15979.392 | M8: =J8/G8 -> 27292.453
A9: березень | B9: =C9+D9 -> 283.75 | C9: 156.5 | D9: 127.25 | E9: =F9+G9 -> 206 | F9: 114 | G9: 92 | H9: =I9+J9 -> 4171202 | I9: 1807685.8 | J9: 2363516.1 | K9: =H9/E9 -> 20248.553 | L9: =I9/F9 -> 15856.893 | M9: =J9/G9 -> 25690.393
A10: квітень | B10: =C10+D10 -> 0 | E10: =F10+G10 -> 0 | H10: =I10+J10 -> 0 | K10: =H10/E10 -> #DIV/0! | L10: =I10/F10 -> #DIV/0! | M10: =J10/G10 -> #DIV/0!
A11: травень | B11: =C11+D11 -> 0 | E11: =F11+G11 -> 0 | H11: =I11+J11 -> 0 | K11: =H11/E11 -> #DIV/0! | L11: =I11/F11 -> #DIV/0! | M11: =J11/G11 -> #DIV/0!
A12: червень | B12: =C12+D12 -> 0 | E12: =F12+G12 -> 0 | H12: =I12+J12 -> 0 | K12: =H12/E12 -> #DIV/0! | L12: =I12/F12 -> #DIV/0! | M12: =J12/G12 -> #DIV/0!
A13: липень | B13: =C13+D13 -> 0 | E13: =F13+G13 -> 0 | H13: =I13+J13 -> 0 | K13: =H13/E13 -> #DIV/0! | L13: =I13/F13 -> #DIV/0! | M13: =J13/G13 -> #DIV/0!
A14: серпень | B14: =C14+D14 -> 0 | E14: =F14+G14 -> 0 | H14: =I14+J14 -> 0 | K14: =H14/E14 -> #DIV/0! | L14: =I14/F14 -> #DIV/0! | M14: =J14/G14 -> #DIV/0!
A15: вересень | B15: =C15+D15 -> 0 | E15: =F15+G15 -> 0 | H15: =I15+J15 -> 0 | K15: =H15/E15 -> #DIV/0! | L15: =I15/F15 -> #DIV/0! | M15: =J15/G15 -> #DIV/0!
A16: жовтень | B16: =C16+D16 -> 0 | E16: =F16+G16 -> 0 | H16: =I16+J16 -> 0 | K16: =H16/E16 -> #DIV/0! | L16: =I16/F16 -> #DIV/0! | M16: =J16/G16 -> #DIV/0!
A17: листопад | B17: =C17+D17 -> 0 | E17: =F17+G17 -> 0 | H17: =I17+J17 -> 0 | K17: =H17/E17 -> #DIV/0! | L17: =I17/F17 -> #DIV/0! | M17: =J17/G17 -> #DIV/0!
A18: грудень | B18: =C18+D18 -> 0 | E18: =F18+G18 -> 0 | H18: =I18+J18 -> 0 | K18: =H18/E18 -> #DIV/0! | L18: =I18/F18 -> #DIV/0! | M18: =J18/G18 -> #DIV/0!
A21: Керівник | E21: Світлана ШКАЛІКОВА
A23: Головний бухгалтер | E23: Ольга САРАНА
