Workbook

Sheet перевірка
B3: 1 | C3: 2 | D3: 3 | E3: 4 | F3: 5 | G3: 6
B4: Показники | C4: Додаток 2 , рядок 1121 | D4: Таблиця 1, всього | E4: Таблиця 4, кошти бюджетів всіх рівняв+безоплатноотриманих активів | F4: 2-3 | G4: 2-4
B5: Цільовий інший операційний дохід | C5: ='Додаток 2 Фін.звіт'!D18 -> 24972.673 | D5: ='Таблиця 1 рядок 1121 МБ+БОА'!C30 -> 24972.673 | E5: ='Таблиця 4 рядок 1210 Опер вит'!F9+'Таблиця 4 рядок 1210 Опер вит'!H9 -> 24972.673 | F5: =C5-D5 -> 0 | G5: =C5-E5 -> 0
D6: Таблиця 1, кошти бюджетів всіх рівнів | E6: Таблиця 4, кошти бюджетів всіх рівнів | G6: 3-4
B7: Кошти бюджетів всіх рівнів | D7: ='Таблиця 1 рядок 1121 МБ+БОА'!C19 -> 17754.475 | E7: ='Таблиця 4 рядок 1210 Опер вит'!F9 -> 17754.475 | G7: =D7-E7 -> 0
C8: Додаток 2 , рядок 1123 | D8: Таблиця 2, всього | F8: 2-3
B9: Інший операційний дохід | C9: ='Додаток 2 Фін.звіт'!D20 -> 1715.642 | D9: ='Таблиця 2 рядок 1123 % б+грант'!C14 -> 1715.642 | F9: =C9-D9 -> 0
C10: Додаток 2 , рядок 1133 | D10: Таблиця 3, всього | F10: 2-3
B11: Інший неопераційний дохід | C11: ='Додаток 2 Фін.звіт'!D24 -> 163.551 | D11: ='Таблиця 3 рядок 1133 вибуття '!C12 -> 163.551 | F11: =C11-D11 -> 0
C12: Додаток 2 , рядок 1210 | D12: Таблиця 4, всього | F12: 2-3
B13: Операційні витрати без амортизації всього, в тому числі | C13: ='Додаток 2 Фін.звіт'!D26 -> 99390.975 | D13: ='Таблиця 4 рядок 1210 Опер вит'!L9 -> 99390.975 | F13: =C13-D13 -> 0
C14: Додаток 2 , рядок 1211 | D14: Додаток 2 , рядок 8200 | F14: 2-3
B15: Оплата праці | C15: ='Додаток 2 Фін.звіт'!D27 -> 53157.061 | D15: ='Додаток 2 Фін.звіт'!D97 -> 53157.061 | F15: =C15-D15 -> 0 | H15: можливе відхилення
C16: Додаток 2 , рядок 1212 | D16: Додаток 2 , рядок 3050 | E16: 22% від ФОП | F16: 2-3 | G16: 2-4
B17: Нарахування на оплату праці | C17: ='Додаток 2 Фін.звіт'!D28 -> 11529.924 | D17: ='Додаток 2 Фін.звіт'!D58 -> 11529.924 | E17: =C15*22% -> 11694.553 | F17: =C17-D17 -> 0 | G17: =C17-E17 -> -164.62942 | H17: можливе відхилення
D18: Додаток 2 , рядок 3020 | E18: 1,5% від ФОП | G18: 2-4
B19: військовий збір | D19: ='Додаток 2 Фін.звіт'!D55 -> 797.368 | E19: =C15*1.5% -> 797.35591 | G19: =D19-E19 -> 0.012085
C20: Додаток 2 , рядок 1215 | D20: Таблиця 4, рядок 1215 | E20: Таблиця 5, всього | F20: 2-3 | G20: 2-4
B21: Інші операційні витрати | C21: ='Додаток 2 Фін.звіт'!D42 -> 16289.358 | D21: ='Таблиця 4 рядок 1210 Опер вит'!L25 -> 16289.358 | E21: ='Таблиця 5 рядок 1215 І оп ви'!C21 -> 16289.358 | F21: =C21-D21 -> 0 | G21: =C21-E21 -> 0
C22: Додаток 2 , рядок 3060 | D22: Таблиця 6, всього | F22: 2-3
B23: Податки, збори та платежі до бюджету, інше | C23: ='Додаток 2 Фін.звіт'!D59 -> 0 | D23: ='Таблиця 6 рядок 3060'!C21 -> 0 | F23: =C23-D23 -> 0
C24: Додаток 2 , рядок 5013 | D24: Таблиця 7, всього | F24: 2-3
B25: ЦІЛЬОВЕ ФІНАНСУВАННЯ ЗА ПРОГРАМОЮ "ОХОРОНА ЗДОРОВ'Я МІСТА ЗАПОРІЖЖЯ ", Поточні видатки | C25: ='Додаток 2 Фін.звіт'!D69 -> 13291.69 | D25: ='Таблиця 7 рядок 5013 МБ'!C14 -> 13291.69 | F25: =C25-D25 -> 0
C26: Додаток 2 , рядок 6000 | D26: Таблиця 8, всього | F26: 2-3
B27: Капітальні інвестиції всього | C27: ='Додаток 2 Фін.звіт'!D76 -> 6876.466 | D27: ='Таблиця 8 рядок 6000 Капи'!L15 -> 6876.466 | F27: =C27-D27 -> 0
C28: Додаток 2 , рядок 6020 | D28: Таблиця 8, рядок 6020 | E28: Таблиця 9, всього | F28: 2-3 | G28: 2-4
B29: придбання (виготовлення) основних засобів | C29: ='Додаток 2 Фін.звіт'!D78 -> 6571.363 | D29: ='Таблиця 8 рядок 6000 Капи'!L10 -> 6571.363 | E29: ='Таблиця 9 рядок 6020 Осн зас'!D25 -> 6571.363 | F29: =C29-D29 -> 0 | G29: =C29-E29 -> 0
C30: Додаток 2 , рядки 6050,6060 | D30: Таблиця 8, рядки 6050, 6060 | E30: Таблиця 10, всього | F30: 2-3 | G30: 2-4
B31: модернізація, модифікація (добудова, дообладнання, реконструкція) основних засобів, капітальний ремонт | C31: ='Додаток 2 Фін.звіт'!D81+'Додаток 2 Фін.звіт'!D82 -> 0 | D31: ='Таблиця 8 рядок 6000 Капи'!L13+'Таблиця 8 рядок 6000 Капи'!L14 -> 0 | E31: ='Таблиця 10 рядки 6050,6060'!B20 -> 0 | F31: =C31-D31 -> 0 | G31: =C31-E31 -> 0

Sheet Додаток 2 Фін.звіт
B1: Додаток 2
B2: до Порядку складання, затвердження фінансового плану комунальними некомерційними підприємствами галузі охорони здоров'я міста Запоріжжя та контролю за його виконанням
A4: ЗВІТ ПРО ВИКОНАННЯ ФІНАНСОВОГО ПЛАНУ
A5: Комунального некомерційного підприємства "Центр первинної медико-санітарної допомоги №2"
A6: (назва підприємства)
A7: за 9 місяців 2024 року
A8: (період) | F8: тис.грн.
A9: Показники | B9: Код рядка | C9: План | D9: Факт | E9: Відхилення | F9: % виконання плану
A11: 1 | B11: 2 | C11: 3 | D11: 4 | E11: 5 | F11: 6
A12: I. ФОРМУВАННЯ ФІНАНСОВИХ РЕЗУЛЬТАТІВ
A13: ДОХІД, всього | B13: 1100 | C13: =C14+C17+C21 -> 107053.45 | D13: =D14+D17+D21 -> 106930.26 | E13: =D13-C13 -> -123.188 | F13: =D13/C13*100 -> 99.884929
A14: Дохід (виручка) від реалізації продукції (товарів, робіт, послуг) | B14: 1110 | C14: =C15+C16 -> 72652.037 | D14: =D15+D16 -> 72652.037 | E14: =D14-C14 -> 0 | F14: =D14/C14*100 -> 100
A15: Доходи надавача послуг за програмою медичних гарантій від НСЗУ | B15: 1111 | C15: 72645.385 | D15: 72645.385 | E15: =D15-C15 -> 0 | F15: =D15/C15*100 -> 100
A16: Дохід від надання медичних та немедичних послуг за кошти фізичних і юридичних осіб та страхових виплат | B16: 1112 | C16: 6.652 | D16: 6.652 | E16: =D16-C16 -> 0 | F16: =D16/C16*100 -> 100
A17: Інший операційний дохід | B17: 1120 | C17: =C18+C19+C20 -> 30653.888 | D17: =D18+D19+D20 -> 30423.688 | E17: =D17-C17 -> -230.2 | F17: =D17/C17*100 -> 99.249035
A18: Цільовий інший операційний дохід (Таблиця 1) | B18: 1121 | C18: ='Таблиця 1 рядок 1121 МБ+БОА'!B30 -> 25256.833 | D18: ='Таблиця 1 рядок 1121 МБ+БОА'!C30 -> 24972.673 | E18: =D18-C18 -> -284.16 | F18: =D18/C18*100 -> 98.874918
A19: Дохід від оренди, від компенсаціій за комунальні платежі від орендаря | B19: 1122 | C19: 3681.412 | D19: 3735.373 | E19: =D19-C19 -> 53.961 | F19: =D19/C19*100 -> 101.46577
A20: Інше (Таблиця 2) | B20: 1123 | C20: ='Таблиця 2 рядок 1123 % б+грант'!B14 -> 1715.643 | D20: ='Таблиця 2 рядок 1123 % б+грант'!C14 -> 1715.642 | E20: =D20-C20 -> -0.001 | F20: =D20/C20*100 -> 99.999942
A21: Неопераційний дохід | B21: 1130 | C21: =C22+C23+C24 -> 3747.523 | D21: =D22+D23+D24 -> 3854.535 | E21: =D21-C21 -> 107.012 | F21: =D21/C21*100 -> 102.85554
A22: Неопераційний дохід, від амортизації по НА та ОЗ, що отримані як цільове фінансування | B22: 1131 | C22: 26.476 | D22: 26.475 | E22: =D22-C22 -> -0.001 | F22: =D22/C22*100 -> 99.996223
A23: Неопераційний дохід від амортизації по НА та ОЗ, що отримані безоплатно | B23: 1132 | C23: 3555.641 | D23: 3664.509 | E23: =D23-C23 -> 108.868 | F23: =D23/C23*100 -> 103.06184
A24: Інший неопераційний дохід (Таблиця 3) | B24: 1133 | C24: ='Таблиця 3 рядок 1133 вибуття '!B12 -> 165.406 | D24: ='Таблиця 3 рядок 1133 вибуття '!C12 -> 163.551 | E24: =D24-C24 -> -1.855 | F24: =D24/C24*100 -> 98.878517
A25: ВИТРАТИ, всього, у тому числі: | B25: 1200 | C25: =C26+C43+C44 -> 104526.59 | D25: =D26+D43+D44 -> 103915.23 | E25: =D25-C25 -> -611.367 | F25: =D25/C25*100 -> 99.415109
A26: Операційні витрати без амортизації всього, в тому числі: (Таблиця 4) | B26: 1210 | C26: =C27+C28+C29+C30+C42 -> 100052.98 | D26: =D27+D28+D29+D30+D42 -> 99390.975 | E26: =D26-C26 -> -662.006 | F26: =D26/C26*100 -> 99.338345
A27: Оплата праці | B27: 1211 | C27: ='Таблиця 4 рядок 1210 Опер вит'!K10 -> 53332.544 | D27: ='Таблиця 4 рядок 1210 Опер вит'!L10 -> 53157.061 | E27: =D27-C27 -> -175.483 | F27: =D27/C27*100 -> 99.670965
A28: Нарахування на оплату праці | B28: 1212 | C28: ='Таблиця 4 рядок 1210 Опер вит'!K11 -> 11561.636 | D28: ='Таблиця 4 рядок 1210 Опер вит'!L11 -> 11529.924 | E28: =D28-C28 -> -31.712 | F28: =D28/C28*100 -> 99.725714
A29: Соціальне забезпечення (у тому числі пільгові пенсії) | B29: 1213 | C29: ='Таблиця 4 рядок 1210 Опер вит'!K12 -> 32.958 | D29: ='Таблиця 4 рядок 1210 Опер вит'!L12 -> 32.957 | E29: =D29-C29 -> -0.001 | F29: =D29/C29*100 -> 99.996966
A30: Матеріальні витрати | B30: 1214 | C30: =C31+C32+C33+C34+C35+C36+C37+C38+C39+C40+C41 -> 18610.109 | D30: =D31+D32+D33+D34+D35+D36+D37+D38+D39+D40+D41 -> 18381.675 | E30: =D30-C30 -> -228.434 | F30: =D30/C30*100 -> 98.772527
A31: Медикаменти та перев'язувальні матеріали | B31: 1214.1 | C31: ='Таблиця 4 рядок 1210 Опер вит'!K14 -> 6172 | D31: ='Таблиця 4 рядок 1210 Опер вит'!L14 -> 6125.537 | E31: =D31-C31 -> -46.463 | F31: =D31/C31*100 -> 99.247197
A32: Засоби індивідуального захисту | B32: 1214.2 | C32: ='Таблиця 4 рядок 1210 Опер вит'!K15 -> 142 | D32: ='Таблиця 4 рядок 1210 Опер вит'!L15 -> 109.575 | E32: =D32-C32 -> -32.425 | F32: =D32/C32*100 -> 77.165493
A33: Продукти харчування | B33: 1214.3 | C33: ='Таблиця 4 рядок 1210 Опер вит'!K16 -> 913.5 | D33: ='Таблиця 4 рядок 1210 Опер вит'!L16 -> 901.503 | E33: =D33-C33 -> -11.997 | F33: =D33/C33*100 -> 98.6867
A34: Предмети, матеріали та інвентар | B34: 1214.4 | C34: ='Таблиця 4 рядок 1210 Опер вит'!K17 -> 1015.335 | D34: ='Таблиця 4 рядок 1210 Опер вит'!L17 -> 935.15 | E34: =D34-C34 -> -80.185 | F34: =D34/C34*100 -> 92.102607
A35: Будівельні матеріали | B35: 1214.5 | C35: ='Таблиця 4 рядок 1210 Опер вит'!K18 -> 332 | D35: ='Таблиця 4 рядок 1210 Опер вит'!L18 -> 326.868 | E35: =D35-C35 -> -5.132 | F35: =D35/C35*100 -> 98.454217
A36: Паливно-мастильні матеріали | B36: 1214.6 | C36: ='Таблиця 4 рядок 1210 Опер вит'!K19 -> 1155.525 | D36: ='Таблиця 4 рядок 1210 Опер вит'!L19 -> 1138.758 | E36: =D36-C36 -> -16.767 | F36: =D36/C36*100 -> 98.548971
A37: Оплата комунальних послуг та інших енергоносіїв | B37: 1214.7 | C37: ='Таблиця 4 рядок 1210 Опер вит'!K20 -> 6594.025 | D37: ='Таблиця 4 рядок 1210 Опер вит'!L20 -> 6594.019 | E37: =D37-C37 -> -0.006 | F37: =D37/C37*100 -> 99.999909
A38: М’який інвентар | B38: 1214.8 | C38: ='Таблиця 4 рядок 1210 Опер вит'!K21 -> 0 | D38: ='Таблиця 4 рядок 1210 Опер вит'!L21 -> 0 | E38: =D38-C38 -> 0 | F38: =D38/C38*100 -> #DIV/0!
A39: Господарські матеріали | B39: 1214.9 | C39: ='Таблиця 4 рядок 1210 Опер вит'!K22 -> 1347.694 | D39: ='Таблиця 4 рядок 1210 Опер вит'!L22 -> 1331.081 | E39: =D39-C39 -> -16.613 | F39: =D39/C39*100 -> 98.767302
A40: Ремонти (приміщень, обладнання) | B40: 1214.10 | C40: ='Таблиця 4 рядок 1210 Опер вит'!K23 -> 938.03 | D40: ='Таблиця 4 рядок 1210 Опер вит'!L23 -> 919.184 | E40: =D40-C40 -> -18.846 | F40: =D40/C40*100 -> 97.990896
A41: Інші матеріальні витрати | B41: 1214.11 | C41: ='Таблиця 4 рядок 1210 Опер вит'!K24 -> 0 | D41: ='Таблиця 4 рядок 1210 Опер вит'!L24 -> 0 | E41: =D41-C41 -> 0 | F41: =D41/C41*100 -> #DIV/0!
A42: Інші операційні витрати (Таблиця 5) | B42: 1215 | C42: ='Таблиця 5 рядок 1215 І оп ви'!B21 -> 16515.734 | D42: ='Таблиця 5 рядок 1215 І оп ви'!C21 -> 16289.358 | E42: =D42-C42 -> -226.376 | F42: =D42/C42*100 -> 98.629331
...

Sheet Таблиця 1 рядок 1121  МБ+БОА
E1: Таблиця 1
A2: Комунальне некомерційне підприємство "Центр перинної медико-санітарої допомоги №2"
A3: (назва підприємства)
A4: Інший операційний дохід
A5: Цільовий інший операційний дохід (рядок 1121 звіту)
A7: Найменування | B7: План | C7: Факт | D7: Відхилення | E7: % виконання плану
A9: Кошти бюджетів всіх рівнів
A10: Соціальне забезпечення (у тому числі пільгові пенсії) | B10: 32.958 | C10: 32.957 | D10: =C10-B10 -> -0.001 | E10: =C10/B10*100 -> 99.996966
A11: Медикаменти та перев'язувальні матеріали | B11: 286 | C11: 252.347 | D11: =C11-B11 -> -33.653 | E11: =C11/B11*100 -> 88.233217
A12: Засоби індивідуального захисту | B12: 53 | C12: 46.31 | D12: =C12-B12 -> -6.69 | E12: =C12/B12*100 -> 87.377358
A13: Продукти харчування | B13: 270 | C13: 258.29 | D13: =C13-B13 -> -11.71 | E13: =C13/B13*100 -> 95.662963
A14: Предмети, матеріали та інвентар | B14: 0 | C14: 0 | D14: =C14-B14 -> 0 | E14: =C14/B14*100 -> #DIV/0!
A15: Паливно-мастильні матеріали | B15: 350 | C15: 338.559 | D15: =C15-B15 -> -11.441 | E15: =C15/B15*100 -> 96.731143
A16: Оплата комунальних послуг та інших енергоносіїв | B16: 4424.494 | C16: 4424.492 | D16: =C16-B16 -> -0.002 | E16: =C16/B16*100 -> 99.999955
A17: Ремонт (приміщень, обладнання) | B17: 198.03 | C17: 198.03 | D17: =C17-B17 -> 0 | E17: =C17/B17*100 -> 100
A18: Відшкодування вартості пільгових ліків, інсулінів | B18: 12224.051 | C18: 12203.49 | D18: =C18-B18 -> -20.561 | E18: =C18/B18*100 -> 99.831799
A19: Всього | B19: =SUM(B10:B18) -> 17838.533 | C19: =SUM(C10:C18) -> 17754.475 | D19: =C19-B19 -> -84.058 | E19: =C19/B19*100 -> 99.528784
A20: Безоплатно отримані активи
A21: Медикаменти та перев'язувальні матеріали | B21: 5006 | C21: 5005.779 | D21: =C21-B21 -> -0.221 | E21: =C21/B21*100 -> 99.995585
A22: Засоби індивідуального захисту | B22: 82 | C22: 57.653 | D22: =C22-B22 -> -24.347 | E22: =C22/B22*100 -> 70.308537
A23: Продукти харчування | B23: 643.5 | C23: 643.213 | D23: =C23-B23 -> -0.287 | E23: =C23/B23*100 -> 99.9554
A24: Предмети, матеріали та інвентар | B24: 157.526 | C24: 156.631 | D24: =C24-B24 -> -0.895 | E24: =C24/B24*100 -> 99.43184
A25: Будівельні матеріали | B25: 78 | C25: 75.291 | D25: =C25-B25 -> -2.709 | E25: =C25/B25*100 -> 96.526923
A26: Паливно-мастильні матеріали | B26: 0.174 | C26: 0.174 | D26: =C26-B26 -> 0 | E26: =C26/B26*100 -> 100
A27: Господарськи матеріали | B27: 1285.694 | C27: 1279.457 | D27: =C27-B27 -> -6.237 | E27: =C27/B27*100 -> 99.514892
A28: Інші витрати | B28: 165.406 | C28: 0 | D28: =C28-B28 -> -165.406 | E28: =C28/B28*100 -> 0
A29: Всього | B29: =SUM(B21:B28) -> 7418.3 | C29: =SUM(C21:C28) -> 7218.198 | D29: =C29-B29 -> -200.102 | E29: =C29/B29*100 -> 97.30259
A30: Всього | B30: =B19+B29 -> 25256.833 | C30: =C19+C29 -> 24972.673 | D30: =C30-B30 -> -284.16 | E30: =C30/B30*100 -> 98.874918
A35: Головний бухгалтер | D35: Ольга САРАНА
B36: (підпис) | C36: (П.І.Б.)

Sheet Таблиця 2 рядок 1123 % б+грант
E1: Таблиця 2
A2: Комунальне некомерційне підприємство "Центр перинної медико-санітарої допомоги №2"
A3: (назва підприємства)
A4: Інший операційний дохід
A5: Інше (рядок 1123 звіту)
A7: Найменування | B7: План | C7: Факт | D7: Відхилення | E7: % виконання плану
A9: Дохід від нарахування відсотків банком на залишок коштів НСЗУ по рахунку на кінець звітного періоду | B9: 672.547 | C9: 672.547 | D9: =C9-B9 -> 0 | E9: =C9/B9*100 -> 100
A10: Дохід за рахунок зданого металобрухту від списаних основних засобів та необоротних активів | D10: =C10-B10 -> 0 | E10: =C10/B10*100 -> #DIV/0!
A11: Благодійний грант від Представництва "ПРОДЖЕКТ ХОУП-ЗЕ ПІПЛ-ТУ ПІПЛ ХЕЛС ФАУНДЕЙШН ІНК в Україні для "Посилення кадрового потенціалу" | B11: 657.516 | C11: 657.516 | D11: =C11-B11 -> 0 | E11: =C11/B11*100 -> 100
A12: Благодійна допомога від фізічної особи- підприємця | B12: 6.3 | C12: 6.3 | D12: =C12-B12 -> 0 | E12: =C12/B12*100 -> 100
A13: Благодійний грант від Дитячого фонду ООН (ЮНІСЕФ) "Посилення реагування на надзвичайні ситуації шляхом розбудови потенціалу національних органів влади, місцевих громад, організацій громадянського суспільства та медичних працівників", який імплементує Український католицький університет | B13: 379.28 | C13: 379.279 | D13: =C13-B13 -> -0.001 | E13: =C13/B13*100 -> 99.999736
A14: Всього | B14: =SUM(B9:B13) -> 1715.643 | C14: =SUM(C9:C13) -> 1715.642 | D14: =C14-B14 -> -0.001 | E14: =C14/B14*100 -> 99.999942
A18: Головний бухгалтер | D18: Ольга САРАНА
B19: (підпис) | C19: (П.І.Б.)

Sheet Таблиця 3 рядок 1133 вибуття 
E1: Таблиця 3
A2: Комунальне некомерційне підприємство "Центр перинної медико-санітарої допомоги №2"
A3: (назва підприємства)
A4: Інший неопераційний дохід
A5: (рядок 1133 звіту)
A7: Найменування | B7: План | C7: Факт | D7: Відхилення | E7: % виконання плану
A9: Дохід від вибуття ОЗ і НА | B9: 165.406 | C9: 163.551 | D9: =C9-B9 -> -1.855 | E9: =C9/B9*100 -> 98.878517
D10: =C10-B10 -> 0 | E10: =C10/B10*100 -> #DIV/0!
D11: =C11-B11 -> 0 | E11: =C11/B11*100 -> #DIV/0!
A12: Всього | B12: =SUM(B9:B11) -> 165.406 | C12: =SUM(C9:C11) -> 163.551 | D12: =C12-B12 -> -1.855 | E12: =C12/B12*100 -> 98.878517
A16: Головний бухгалтер | D16: Ольга САРАНА
B17: (підпис) | C17: (П.І.Б.)

Sheet Таблиця 4 рядок 1210 Опер вит
K1: Таблиця 4
A2: Комунальне некомерційне підприємство "Центр перинної медико-санітарої допомоги №2"
A3: (назва підприємства)
A4: Операційні витрати без амортизації
A5: (рядок 1210 звіту)
E6: =E9-'Таблиця 1 рядок 1121 МБ+БОА'!B19 -> 0 | G6: =G9-'Таблиця 1 рядок 1121 МБ+БОА'!B29 -> 0
C7: коштів НСЗУ | E7: коштів бюджетів всіх рівнів | G7: безоплатного отримання активів | I7: інших надходжень | K7: Разом за звітний період
B8: Код рядка | C8: план | D8: факт | E8: план | F8: факт | G8: план | H8: факт | I8: план | J8: факт | K8: план | L8: факт
A9: Операційні витрати без амортизації всього, в тому числі: | B9: 1210 | C9: =C10+C11+C12+C13+C25 -> 70395.226 | D9: =D10+D11+D12+D13+D25 -> 70067.427 | E9: =E10+E11+E12+E13+E25 -> 17838.533 | F9: =F10+F11+F12+F13+F25 -> 17754.475 | G9: =G10+G11+G12+G13+G25 -> 7418.3 | H9: =H10+H11+H12+H13+H25 -> 7218.198 | I9: =I10+I11+I12+I13+I25 -> 4400.922 | J9: =J10+J11+J12+J13+J25 -> 4350.875 | K9: =C9+E9+G9+I9 -> 100052.98 | L9: =D9+F9+H9+J9 -> 99390.975
A10: Оплата праці | B10: 1211 | C10: 52850 | D10: 52674.519 | E10: 0 | F10: 0 | G10: 0 | H10: 0 | I10: 482.544 | J10: 482.542 | K10: =C10+E10+G10+I10 -> 53332.544 | L10: =D10+F10+H10+J10 -> 53157.061
A11: Нарахування на оплату праці | B11: 1212 | C11: 11460 | D11: 11428.288 | E11: 0 | F11: 0 | G11: 0 | H11: 0 | I11: 101.636 | J11: 101.636 | K11: =C11+E11+G11+I11 -> 11561.636 | L11: =D11+F11+H11+J11 -> 11529.924
A12: Соціальне забезпечення (у тому числі пільгові пенсії) | B12: 1213 | C12: 0 | D12: 0 | E12: 32.958 | F12: 32.957 | G12: 0 | H12: 0 | I12: 0 | J12: 0 | K12: =C12+E12+G12+I12 -> 32.958 | L12: =D12+F12+H12+J12 -> 32.957
A13: Матеріальні витрати | B13: 1214 | C13: =C14+C15+C16+C17+C18+C19+C20+C21+C22+C23+C24 -> 3032 | D13: =D14+D15+D16+D17+D18+D19+D20+D21+D22+D23+D24 -> 2929.242 | E13: =E14+E15+E16+E17+E18+E19+E20+E21+E22+E23+E24 -> 5581.524 | F13: =F14+F15+F16+F17+F18+F19+F20+F21+F22+F23+F24 -> 5518.028 | G13: =G14+G15+G16+G17+G18+G19+G20+G21+G22+G23+G24 -> 7252.894 | H13: =H14+H15+H16+H17+H18+H19+H20+H21+H22+H23+H24 -> 7218.198 | I13: =I14+I15+I16+I17+I18+I19+I20+I21+I22+I23+I24 -> 2743.691 | J13: =J14+J15+J16+J17+J18+J19+J20+J21+J22+J23+J24 -> 2716.207 | K13: =C13+E13+G13+I13 -> 18610.109 | L13: =D13+F13+H13+J13 -> 18381.675
A14: Медикаменти та перев'язувальні матеріали | B14: 1214.1 | C14: 880 | D14: 867.411 | E14: 286 | F14: 252.347 | G14: 5006 | H14: 5005.779 | I14: 0 | J14: 0 | K14: =C14+E14+G14+I14 -> 6172 | L14: =D14+F14+H14+J14 -> 6125.537
A15: Засоби індивідуального захисту | B15: 1214.2 | C15: 7 | D15: 5.612 | E15: 53 | F15: 46.31 | G15: 82 | H15: 57.653 | I15: 0 | J15: 0 | K15: =C15+E15+G15+I15 -> 142 | L15: =D15+F15+H15+J15 -> 109.575
A16: Продукти харчування | B16: 1214.3 | C16: 0 | D16: 0 | E16: 270 | F16: 258.29 | G16: 643.5 | H16: 643.213 | I16: 0 | J16: 0 | K16: =C16+E16+G16+I16 -> 913.5 | L16: =D16+F16+H16+J16 -> 901.503
A17: Предмети, матеріали та інвентар | B17: 1214.4 | C17: 508 | D17: 433.357 | E17: 0 | F17: 0 | G17: 157.526 | H17: 156.631 | I17: 349.809 | J17: 345.162 | K17: =C17+E17+G17+I17 -> 1015.335 | L17: =D17+F17+H17+J17 -> 935.15
A18: Будівельні матеріали | B18: 1214.5 | C18: 117 | D18: 116.661 | E18: 0 | F18: 0 | G18: 78 | H18: 75.291 | I18: 137 | J18: 134.916 | K18: =C18+E18+G18+I18 -> 332 | L18: =D18+F18+H18+J18 -> 326.868
A19: Паливно-мастильні матеріали | B19: 1214.6 | C19: 800 | D19: 794.675 | E19: 350 | F19: 338.559 | G19: 0.174 | H19: 0.174 | I19: 5.351 | J19: 5.35 | K19: =C19+E19+G19+I19 -> 1155.525 | L19: =D19+F19+H19+J19 -> 1138.758
A20: Оплата комунальних послуг та інших енергоносіїв | B20: 1214.7 | C20: 0 | D20: 0 | E20: 4424.494 | F20: 4424.492 | G20: 0 | H20: 0 | I20: 2169.531 | J20: 2169.527 | K20: =C20+E20+G20+I20 -> 6594.025 | L20: =D20+F20+H20+J20 -> 6594.019
A21: М’який інвентар | B21: 1214.8 | C21: 0 | D21: 0 | E21: 0 | F21: 0 | G21: 0 | H21: 0 | I21: 0 | J21: 0 | K21: =C21+E21+G21+I21 -> 0 | L21: =D21+F21+H21+J21 -> 0
A22: Господарські матеріали | B22: 1214.9 | C22: 45 | D22: 37.584 | G22: 1285.694 | H22: 1279.457 | I22: 17 | J22: 14.04 | K22: =C22+E22+G22+I22 -> 1347.694 | L22: =D22+F22+H22+J22 -> 1331.081
A23: Ремонти (приміщень, обладнання) | B23: 1214.10 | C23: 675 | D23: 673.942 | E23: 198.03 | F23: 198.03 | G23: 0 | H23: 0 | I23: 65 | J23: 47.212 | K23: =C23+E23+G23+I23 -> 938.03 | L23: =D23+F23+H23+J23 -> 919.184
A24: Інші матеріальні витрати | B24: 1214.11 | C24: 0 | D24: 0 | E24: 0 | F24: 0 | G24: 0 | H24: 0 | I24: 0 | J24: 0 | K24: =C24+E24+G24+I24 -> 0 | L24: =D24+F24+H24+J24 -> 0
A25: Інші операційні витрати | B25: 1215 | C25: 3053.226 | D25: 3035.378 | E25: 12224.051 | F25: 12203.49 | G25: 165.406 | H25: 0 | I25: 1073.051 | J25: 1050.49 | K25: =C25+E25+G25+I25 -> 16515.734 | L25: =D25+F25+H25+J25 -> 16289.358
A28: Головний бухгалтер | I28: Ольга САРАНА
E29: (підпис) | H29: (П.І.Б.)

Sheet Таблиця 5 рядок 1215  І оп ви
E1: Таблиця 5
A2: Комунальне некомерційне підприємство "Центр перинної медико-санітарої допомоги №2"
A3: (назва підприємства)
A4: Інші операційні витрати
A5: (рядок 1215 звіту)
A7: Найменування | B7: План | C7: Факт | D7: Відхилення | E7: % виконання плану
A9: Підготовка (перепідготовка) кадрів та підвищення кваліфікації | B9: 67.8 | C9: 67.8 | D9: =C9-B9 -> 0 | E9: =C9/B9*100 -> 100
A10: Послуги (крім комунальних) | B10: 2049.721 | C10: 2008.454 | D10: =C10-B10 -> -41.267 | E10: =C10/B10*100 -> 97.986702
A11: Зовнішні послуги з медичної допомоги | B11: 226.6 | C11: 225.004 | D11: =C11-B11 -> -1.596 | E11: =C11/B11*100 -> 99.295675
A12: ТО ліфти, ПК, оргтехніка, телефони | B12: 12.453 | C12: 12.453 | D12: =C12-B12 -> 0 | E12: =C12/B12*100 -> 100
A13: Зв'язок, інтернет | B13: 157.19 | C13: 155.884 | D13: =C13-B13 -> -1.306 | E13: =C13/B13*100 -> 99.169158
A14: Охорона | B14: 48 | C14: 48 | D14: =C14-B14 -> 0 | E14: =C14/B14*100 -> 100
A15: Пожежна охорона | B15: 27.945 | C15: 27.945 | D15: =C15-B15 -> 0 | E15: =C15/B15*100 -> 100
A16: Страхування | B16: 28.92 | C16: 28.92 | D16: =C16-B16 -> 0 | E16: =C16/B16*100 -> 100
A17: Податки | B17: 702.61 | C17: 702.609 | D17: =C17-B17 -> -0.001 | E17: =C17/B17*100 -> 99.999858
A18: Банківське обслуговування | B18: 7.2 | C18: 6.336 | D18: =C18-B18 -> -0.864 | E18: =C18/B18*100 -> 88
A19: Відшкодування вартості пільгових ліків, інсулінів | B19: 12224.051 | C19: 12203.49 | D19: =C19-B19 -> -20.561 | E19: =C19/B19*100 -> 99.831799
A20: Інші витрати | B20: 963.244 | C20: 802.463 | D20: =C20-B20 -> -160.781 | E20: =C20/B20*100 -> 83.308383
A21: Всього | B21: =SUM(B9:B20) -> 16515.734 | C21: =SUM(C9:C20) -> 16289.358 | D21: =C21-B21 -> -226.376 | E21: =C21/B21*100 -> 98.629331
A24: Головний бухгалтер | D24: Ольга САРАНА
B25: (підпис) | C25: (П.І.Б.)

Sheet Таблиця 6 рядок 3060
E1: Таблиця 6
A2: Комунальне некомерційне підприємство "Центр перинної медико-санітарої допомоги №2"
A3: (назва підприємства)
A4: Інші податки, збори та платежі до бюджету
A5: (рядок 3060 звіту)
A7: Найменування | B7: План | C7: Факт | D7: Відхилення | E7: % виконання плану
D9: =C9-B9 -> 0 | E9: =C9/B9*100 -> #DIV/0!
D10: =C10-B10 -> 0 | E10: =C10/B10*100 -> #DIV/0!
D11: =C11-B11 -> 0 | E11: =C11/B11*100 -> #DIV/0!
D12: =C12-B12 -> 0 | E12: =C12/B12*100 -> #DIV/0!
D13: =C13-B13 -> 0 | E13: =C13/B13*100 -> #DIV/0!
D14: =C14-B14 -> 0 | E14: =C14/B14*100 -> #DIV/0!
D15: =C15-B15 -> 0 | E15: =C15/B15*100 -> #DIV/0!
D16: =C16-B16 -> 0 | E16: =C16/B16*100 -> #DIV/0!
D17: =C17-B17 -> 0 | E17: =C17/B17*100 -> #DIV/0!
D18: =C18-B18 -> 0 | E18: =C18/B18*100 -> #DIV/0!
D19: =C19-B19 -> 0 | E19: =C19/B19*100 -> #DIV/0!
D20: =C20-B20 -> 0 | E20: =C20/B20*100 -> #DIV/0!
A21: Всього | B21: =SUM(B9:B20) -> 0 | C21: =SUM(C9:C20) -> 0 | D21: =C21-B21 -> 0 | E21: =C21/B21*100 -> #DIV/0!
A24: Головний бухгалтер | D24: Ольга САРАНА
B25: (підпис) | C25: (П.І.Б.)

Sheet Таблиця 7 рядок 5013  МБ
E1: Таблиця 7
A2: Комунальне некомерційне підприємство "Центр перинної медико-санітарої допомоги №2"
A3: (назва підприємства)
A4: Інші поточні видатки цільового фінансування
A5: (рядок 5013 звіту)
A7: Найменування | B7: План | C7: Факт | D7: Відхилення | E7: % виконання плану
A9: Соціальне забезпечення (у тому числі пільгові пенсії) | B9: 32.958 | C9: 32.957 | D9: =C9-B9 -> -0.001 | E9: =C9/B9*100 -> 99.996966
A10: Медикаменти та перев'язувальні матеріали | B10: 337.096 | C10: 336.083 | D10: =C10-B10 -> -1.013 | E10: =C10/B10*100 -> 99.699492
A11: Продукти харчування | B11: 138.909 | C11: 138.909 | D11: =C11-B11 -> 0 | E11: =C11/B11*100 -> 100
A12: Паливно-мастильні матеріали | B12: 580.252 | C12: 580.251 | D12: =C12-B12 -> -0.001 | E12: =C12/B12*100 -> 99.999828
A13: Інші операційні витрати (відшкодування вартості пільгових ліків, інсулінів) | B13: 12224.051 | C13: 12203.49 | D13: =C13-B13 -> -20.561 | E13: =C13/B13*100 -> 99.831799
A14: Всього | B14: =SUM(B9:B13) -> 13313.266 | C14: =SUM(C9:C13) -> 13291.69 | D14: =C14-B14 -> -21.576 | E14: =C14/B14*100 -> 99.837936
A19: Головний бухгалтер | D19: Ольга САРАНА
B20: (підпис) | C20: (П.І.Б.)

Sheet Таблиця 8 рядок 6000  Капи
K1: Таблиця 8
B2: Комунальне некомерційне підприємство "Центр перинної медико-санітарої допомоги №2"
A3: (назва підприємства)
A4: Капітальні інвестиції
A5: (рядок 6000 звіту)
B7: Код рядка | C7: коштів НСЗУ | E7: коштів бюджетів всіх рівнів | G7: безоплатного отримання активів | I7: інших надходжень | K7: Разом за звітний період
C8: план | D8: факт | E8: план | F8: факт | G8: план | H8: факт | I8: план | J8: факт | K8: план | L8: факт
A9: капітальне будівництво | B9: 6010 | K9: =C9+E9+G9+I9 -> 0 | L9: =D9+F9+H9+J9 -> 0
A10: придбання (виготовлення) основних засобів | B10: 6020 | C10: 418.837 | D10: 418.837 | E10: 0 | F10: 0 | G10: 6152.526 | H10: 6152.526 | I10: 0 | J10: 0 | K10: =C10+E10+G10+I10 -> 6571.363 | L10: =D10+F10+H10+J10 -> 6571.363
A11: придбання (виготовлення) інших необоротних матеріальних активів | B11: 6030 | C11: 72.828 | D11: 72.828 | E11: 0 | F11: 0 | G11: 145.121 | H11: 145.12 | I11: 87.157 | J11: 87.155 | K11: =C11+E11+G11+I11 -> 305.106 | L11: =D11+F11+H11+J11 -> 305.103
A12: придбання (створення) нематеріальних активів | B12: 6040 | C12: 0 | D12: 0 | E12: 0 | F12: 0 | G12: 0 | H12: 0 | I12: 0 | J12: 0 | K12: =C12+E12+G12+I12 -> 0 | L12: =D12+F12+H12+J12 -> 0
A13: модернізація, модифікація (добудова, дообладнання, реконструкція) основних засобів | B13: 6050 | C13: 0 | D13: 0 | E13: 0 | F13: 0 | G13: 0 | H13: 0 | I13: 0 | J13: 0 | K13: =C13+E13+G13+I13 -> 0 | L13: =D13+F13+H13+J13 -> 0
A14: капітальний ремонт | B14: 6060 | C14: 0 | D14: 0 | E14: 0 | F14: 0 | G14: 0 | H14: 0 | I14: 0 | J14: 0 | K14: =C14+E14+G14+I14 -> 0 | L14: =D14+F14+H14+J14 -> 0
A15: Всього | C15: =SUM(C9:C14) -> 491.665 | D15: =SUM(D9:D14) -> 491.665 | E15: =SUM(E9:E14) -> 0 | F15: =SUM(F9:F14) -> 0 | G15: =SUM(G9:G14) -> 6297.647 | H15: =SUM(H9:H14) -> 6297.646 | I15: =SUM(I9:I14) -> 87.157 | J15: =SUM(J9:J14) -> 87.155 | ... L15: =SUM(L9:L14) -> 6876.466
A17: Головний бухгалтер | H17: Ольга САРАНА
E18: (підпис) | G18: (П.І.Б.)

Sheet Таблиця 9 рядок 6020  Осн зас
E1: Таблиця 9
A3: Комунальне некомерційне підприємство "Центр перинної медико-санітарої допомоги №2"
A4: (назва підприємства)
A5: Придбання основних засобів
A6: (рядок 6020 звіту)
A8: Найменування основного засобу | B8: Кількість, од. | C8: Ціна за одиницю, тис.грн. | D8: Вартість, тис.грн. | E8: Джрело коштів для придбання
A9: Електрокардіограф портативний 3-х канальний Е30 | B9: 3 | C9: 71.139 | D9: =B9*C9 -> 213.417 | E9: НСЗУ
A10: Лампа хірургічна безтінова модель CHYZF-700 Reflection-06 | B10: 1 | C10: 154 | D10: =B10*C10 -> 154 | E10: НСЗУ
A11: Моноблок Arlline Business G 44 | B11: 2 | C11: 25.71 | D11: =B11*C11 -> 51.42 | E11: НСЗУ
A12: Концентратор кисню для домашнього використання | B12: 2 | C12: 25 | D12: =B12*C12 -> 50 | E12: Безоплатне отримання активів
A13: Інфузамат | B13: 10 | C13: 27 | D13: =B13*C13 -> 270 | E13: Безоплатне отримання активів
A14: Ультразвукова діагностична система Versana Active | B14: 3 | C14: 1330 | D14: =B14*C14 -> 3990 | E14: Безоплатне отримання активів
A15: Портативний телемедичний діагностичний комплекс | B15: 4 | C15: 220 | D15: =B15*C15 -> 880 | E15: Безоплатне отримання активів
A16: Імунофлуоресцентний аналізатор | B16: 1 | C16: 90.415 | D16: =B16*C16 -> 90.415 | E16: Безоплатне отримання активів
A17: Аналізатор біохімічний ВА 88А | B17: 1 | C17: 105 | D17: =B17*C17 -> 105 | E17: Безоплатне отримання активів
A18: Аналізатор сечі | B18: 1 | C18: 41 | D18: =B18*C18 -> 41 | E18: Безоплатне отримання активів
A19: Ноутбук 15.6 "Medion Cepter N 520 | B19: 1 | C19: 26.684 | D19: =B19*C19 -> 26.684 | E19: Безоплатне отримання активів
A20: Портативна зарядна станція BLUETTI 2200 W AC200MAX Solar | B20: 1 | C20: 59.9 | D20: =B20*C20 -> 59.9 | E20: Безоплатне отримання активів
... A24: Холодильник для зберігання вакцини Vestfrost VLS174A AC | B24: 2 | C24: 50.758 | D24: =B24*C24 -> 101.516 | E24: Безоплатне отримання активів
A25: Всього | D25: =SUM(D9:D24) -> 6571.363
A28: Головний бухгалтер | D28: Ольга САРАНА
B29: (підпис) | C29: (П.І.Б.)

Sheet Таблиця 10 рядки 6050,6060
D1: Таблиця 10
A2: Комунальне некомерційне підприємство "Центр перинної медико-санітарої допомоги №2"
A3: (назва підприємства)
A4: Перелік реконструкцій та капітальних ремонтів
A5: (рядки 6050,6060 звіту)
A7: Найменування об'єкту | B7: Вартість, тис.грн. | C7: Джерело коштів | D7: Терміни проведення робіт (квартали)
A20: Всього | B20: =SUM(B8:B19) -> 0
A23: Головний бухгалтер | C23: Ольга САРАНА
B24: (підпис) | C24: (П.І.Б.)

Sheet Довідка про зп мед персоналу
A1: Середньомісячна заробітна плата медичних працівників за 9 місяців 2024 року
A2: Комунальне некомерційне підприємство "Центр перинної медико-санітарої допомоги №2"
A3: (назва підприємства)
A4: Період (місяці кварталу) | B4: Штатна чисельність | E4: Кількість працівників в еквіваленті повної зайнятості | H4: Фонд оплати праці, грн. | K4: Середньомісячна заробітна плата 1 працівника в еквіваленті повної зайнятості, грн.
B5: Медичні працівники | C5: в т.ч.: | E5: Медичні працівники | F5: в т.ч.: | H5: Медичних працівників | I5: в т.ч.: | K5: Медичні працівники | L5: фахівці з базовою та неповною вищою медичною освітою | M5: лікарі
C6: фахівці з базовою та неповною вищою медичною освітою | D6: лікарі | F6: фахівці з базовою та неповною вищою медичною освітою | G6: лікарі | I6: фахівці з базовою та неповною вищою медичною освітою | J6: лікарі
A7: січень | B7: =C7+D7 -> 288.75 | C7: 159 | D7: 129.75 | E7: =F7+G7 -> 206 | F7: 115 | G7: 91 | H7: =I7+J7 -> 3992157.9 | I7: 1686504.9 | J7: 2305653 | K7: =H7/E7 -> 19379.408 | L7: =I7/F7 -> 14665.26 | M7: =J7/G7 -> 25336.846
A8: лютий | B8: =C8+D8 -> 288.75 | C8: 159 | D8: 129.75 | E8: =F8+G8 -> 216 | F8: 119 | G8: 97 | H8: =I8+J8 -> 4548915.5 | I8: 1901547.6 | J8: 2647367.9 | K8: =H8/E8 -> 21059.794 | L8: =I8/F8 -> 15979.392 | M8: =J8/G8 -> 27292.453
A9: березень | B9: =C9+D9 -> 283.75 | C9: 156.5 | D9: 127.25 | E9: =F9+G9 -> 206 | F9: 114 | G9: 92 | H9: =I9+J9 -> 4171202 | I9: 1807685.8 | J9: 2363516.1 | K9: =H9/E9 -> 20248.553 | L9: =I9/F9 -> 15856.893 | M9: =J9/G9 -> 25690.393
A10: квітень | B10: =C10+D10 -> 283.75 | C10: 156.5 | D10: 127.25 | E10: =F10+G10 -> 209 | F10: 117 | G10: 92 | H10: =I10+J10 -> 4430497.2 | I10: 1912387.9 | J10: 2518109.3 | K10: =H10/E10 -> 21198.551 | L10: =I10/F10 -> 16345.196 | M10: =J10/G10 -> 27370.753
A11: травень | B11: =C11+D11 -> 268.25 | C11: 141 | D11: 127.25 | E11: =F11+G11 -> 207 | F11: 117 | G11: 90 | H11: =I11+J11 -> 4268035.8 | I11: 1790328.1 | J11: 2477707.7 | K11: =H11/E11 -> 20618.531 | L11: =I11/F11 -> 15301.949 | M11: =J11/G11 -> 27530.086
A12: червень | B12: =C12+D12 -> 268.25 | C12: 141 | D12: 127.25 | E12: =F12+G12 -> 202 | F12: 113 | G12: 89 | H12: =I12+J12 -> 4593775.6 | I12: 2070599.2 | J12: 2523176.4 | K12: =H12/E12 -> 22741.463 | L12: =I12/F12 -> 18323.886 | M12: =J12/G12 -> 28350.297
A13: липень | B13: =C13+D13 -> 268.25 | C13: 141 | D13: 127.25 | E13: =F13+G13 -> 210 | F13: 117 | G13: 93 | H13: =I13+J13 -> 4729698.6 | I13: 1925449.4 | J13: 2804249.2 | K13: =H13/E13 -> 22522.374 | L13: =I13/F13 -> 16456.832 | M13: =J13/G13 -> 30153.218
A14: серпень | B14: =C14+D14 -> 268.25 | C14: 141 | D14: 127.25 | E14: =F14+G14 -> 210 | F14: 111 | G14: 99 | H14: =I14+J14 -> 4129800.7 | I14: 1637550.1 | J14: 2492250.6 | K14: =H14/E14 -> 19665.718 | L14: =I14/F14 -> 14752.704 | M14: =J14/G14 -> 25174.248
A15: вересень | B15: =C15+D15 -> 268.25 | C15: 141 | D15: 127.25 | E15: =F15+G15 -> 205 | F15: 110 | G15: 95 | H15: =I15+J15 -> 4624691.3 | I15: 1904227.2 | J15: 2720464.1 | K15: =H15/E15 -> 22559.47 | L15: =I15/F15 -> 17311.156 | M15: =J15/G15 -> 28636.464
A18: Медичний директор | E18: Вікторія КОЛОДКА
C19: (підпис) | E19: (П.І.Б.)
A20: Головний бухгалтер | E20: Ольга САРАНА
C21: (підпис) | E21: (П.І.Б.)
